{"text_format":"2","workbook":"xlsx","n_sheets":1,"sheets":["tételes ajánlat"],"not_rendered":{"charts":0,"images":0,"macros":0,"external_links":0,"defined_names":0,"comments":2,"pivot_tables":0},"unopened":[],"bounds":{"document_bytes":16777216,"sheet_cells":100000,"run_cost":"one","rows_first":2000,"rows_last":500,"rows_between":2000,"halvings":0,"cell_chars":16384,"cell_head_chars":4096},"cells_cut":0,"cells_raw":0,"read":"whole","date_system":"1900"}

{"sheet":"tételes ajánlat","index":0,"n_rows":105,"n_cols":16,"rows_kept":105,"cut":false,"hidden":false,"merged":[[102,1,102,12],[1,1,1,3],[2,2,2,3],[3,2,3,3],[4,2,4,3],[6,1,6,3],[7,2,7,3],[8,2,8,3],[9,2,9,3],[10,2,10,3],[12,2,12,3],[13,2,13,3]]}
[]
[null,"Ajánlatkérő "]
[null,"Név:","Szegedi Tudományegyetem "]
[null,"Székhely:","6720 Szeged, Dugonics tér 13."]
[null,"Adószám:","Adószám: 19308650-2-06"]
[]
[null,"Ajánlatadó"]
[null,"Név:"]
[null,"Székhely:"]
[null,"Adószám:"]
[null,"Kapcsolattartó és elérhetősége:"]
[]
[null,"Dátum:"]
[null,"Érvényességi idő:"]
["Sor","Megnevezés","Minőség","Töltet mennyiség","Űrtartalom","Nyomás (bar)","Projektben tervezett mennyiség/2025 év ","Projektben tervezett mennyiség/2027 év ","Projektben tervezett mennyiség/2028 év ","Összesen projekt + IKKIK igény ","Igény összesen nettó Ft ","Tervezett mennyiség","Nettó egységár","Nettó összes","ÁFA","Bruttó összes"]
["1.","Szintetikus levegő HC Free","5.0","10 m3","50 L",200,{"$f":"#REF!","v":{"$error":"#REF!"}},{"$f":"#REF!","v":{"$error":"#REF!"}},0,{"$f":"G16+#REF!+H16+I16","v":{"$error":"#REF!"}},{"$f":"J16*#REF!","v":{"$error":"#REF!"}},10]
["2.","Szintetikus levegő","ipari","6 m3","40 L",150,{"$f":"#REF!","v":{"$error":"#REF!"}},{"$f":"#REF!+#REF!","v":{"$error":"#REF!"}},{"$f":"#REF!+#REF!","v":{"$error":"#REF!"}},{"$f":"G17+#REF!+H17+I17","v":{"$error":"#REF!"}},{"$f":"J17*#REF!","v":{"$error":"#REF!"}},67]
["3.","Szintetikus levegő","ipari","1,5 m3","14 L",150,0,0,0,{"$f":"G18+#REF!+H18+I18","v":{"$error":"#REF!"}},{"$f":"J18*#REF!","v":{"$error":"#REF!"}},4]
["4.","Szén-dioxid","élelmiszerip.","10 kg","14 L",null,0,0,0,{"$f":"G19+#REF!+H19+I19","v":{"$error":"#REF!"}},{"$f":"J19*#REF!","v":{"$error":"#REF!"}},1]
["5.","Szén-dioxid","élelmiszerip.","20 kg","27 L",null,0,0,0,{"$f":"G20+#REF!+H20+I20","v":{"$error":"#REF!"}},{"$f":"J20*#REF!","v":{"$error":"#REF!"}},10]
["6.","Szén-dioxid","élelmiszerip.","30 kg","40 L",null,0,{"$f":"#REF!","v":{"$error":"#REF!"}},{"$f":"#REF!","v":{"$error":"#REF!"}},{"$f":"G21+#REF!+H21+I21","v":{"$error":"#REF!"}},{"$f":"J21*#REF!","v":{"$error":"#REF!"}},12]
["7.","Szén-dioxid","4.5","10 kg","14 L",null,0,{"$f":"#REF!","v":{"$error":"#REF!"}},{"$f":"#REF!","v":{"$error":"#REF!"}},{"$f":"G22+#REF!+H22+I22","v":{"$error":"#REF!"}},{"$f":"J22*#REF!","v":{"$error":"#REF!"}},22]
["8.","Szén-dioxid (CO2) ","4.8 ","7,5 kg","10 L",150,0,0,0,{"$f":"G23+#REF!+H23+I23","v":{"$error":"#REF!"}},{"$f":"J23*#REF!","v":{"$error":"#REF!"}},2]
["9.","Szén-dioxid (CO2)","4.8","37,5 kg","50 L",150,0,0,0,{"$f":"G24+#REF!+H24+I24","v":{"$error":"#REF!"}},{"$f":"J24*#REF!","v":{"$error":"#REF!"}},2]
["10.","Szén-monoxid (CO) ","4.7  (100%)","1,5 m³ - 1,9 m³","10 L",150,0,0,0,{"$f":"G25+#REF!+H25+I25","v":{"$error":"#REF!"}},{"$f":"J25*#REF!","v":{"$error":"#REF!"}},1]
["11.","Szén-monoxid (CO) ","4.7  (100%)","7,5 m³- 7,8 m³","50 L",150,0,0,0,{"$f":"G26+#REF!+H26+I26","v":{"$error":"#REF!"}},{"$f":"J26*#REF!","v":{"$error":"#REF!"}},53]
["12.","Oxigén (O2)","2.5 (100%)","2 m³","10 L",150,{"$f":"#REF!","v":{"$error":"#REF!"}},0,0,{"$f":"G27+#REF!+H27+I27","v":{"$error":"#REF!"}},{"$f":"J27*#REF!","v":{"$error":"#REF!"}},1]
["13.","Oxigén (O2)","2.5 (100%)","10 m³","50 L",150,0,0,0,{"$f":"G28+#REF!+H28+I28","v":{"$error":"#REF!"}},{"$f":"J28*#REF!","v":{"$error":"#REF!"}},18]
["14.","Oxigén","ipari","10 m³","50 L",150,0,0,0,{"$f":"G29+#REF!+H29+I29","v":{"$error":"#REF!"}},{"$f":"J29*#REF!","v":{"$error":"#REF!"}},1]
["15.","Nitrogén","5.0","1,5 m 3","10L",150,0,{"$f":"#REF!","v":{"$error":"#REF!"}},{"$f":"#REF!","v":{"$error":"#REF!"}},{"$f":"G30+#REF!+H30+I30","v":{"$error":"#REF!"}},{"$f":"J30*#REF!","v":{"$error":"#REF!"}},9]
["16.","Nitrogén","5.0","10 m3","50 L",200,{"$f":"#REF!+#REF!","v":{"$error":"#REF!"}},{"$f":"#REF!+#REF!","v":{"$error":"#REF!"}},{"$f":"#REF!+#REF!","v":{"$error":"#REF!"}},{"$f":"G31+#REF!+H31+I31","v":{"$error":"#REF!"}},{"$f":"J31*#REF!","v":{"$error":"#REF!"}},32]
["17.","Nitrogén","4.5","6 m 3","40 L",150,0,0,0,{"$f":"G32+#REF!+H32+I32","v":{"$error":"#REF!"}},{"$f":"J32*#REF!","v":{"$error":"#REF!"}},1]
["18.","Nitrogén","4.5","2 m 3","10 L",200,0,0,0,{"$f":"G33+#REF!+H33+I33","v":{"$error":"#REF!"}},{"$f":"J33*#REF!","v":{"$error":"#REF!"}},4]
["19.","Nitrogén","4.5","1.5m 3","10 L",150,0,0,0,{"$f":"G34+#REF!+H34+I34","v":{"$error":"#REF!"}},{"$f":"J34*#REF!","v":{"$error":"#REF!"}},1]
["20.","Nitrogén","4.5","10 m3","50 L",200,{"$f":"#REF!+#REF!","v":{"$error":"#REF!"}},{"$f":"#REF!+#REF!","v":{"$error":"#REF!"}},{"$f":"#REF!+#REF!","v":{"$error":"#REF!"}},{"$f":"G35+#REF!+H35+I35","v":{"$error":"#REF!"}},{"$f":"J35*#REF!","v":{"$error":"#REF!"}},128]
["21.","Hidrogén","ipari","6 m3","40 L",150,0,0,0,{"$f":"G36+#REF!+H36+I36","v":{"$error":"#REF!"}},{"$f":"J36*#REF!","v":{"$error":"#REF!"}},1]
["22.","Hidrogén","ipari","1,75 m3","14 L",125,0,0,0,{"$f":"G37+#REF!+H37+I37","v":{"$error":"#REF!"}},{"$f":"J37*#REF!","v":{"$error":"#REF!"}},1]
["23.","Hidrogén","5.0","10 m 3","50 L",200,{"$f":"#REF!","v":{"$error":"#REF!"}},0,0,{"$f":"G38+#REF!+H38+I38","v":{"$error":"#REF!"}},{"$f":"J38*#REF!","v":{"$error":"#REF!"}},6]
["24.","Hidrogén","5.0","1.5 m3","10 L",150,0,0,0,{"$f":"G39+#REF!+H39+I39","v":{"$error":"#REF!"}},{"$f":"J39*#REF!","v":{"$error":"#REF!"}},1]
["25.","Hélium","4.6","1,5 m3","10 L",150,0,0,0,{"$f":"G40+#REF!+H40+I40","v":{"$error":"#REF!"}},{"$f":"J40*#REF!","v":{"$error":"#REF!"}},1]
["26.","Hélium","4.6","2 m3","14 L",200,0,0,0,{"$f":"G41+#REF!+H41+I41","v":{"$error":"#REF!"}},{"$f":"J41*#REF!","v":{"$error":"#REF!"}},1]
["27.","Hélium","4.6","6 m3","40 L",150,0,0,0,{"$f":"G42+#REF!+H42+I42","v":{"$error":"#REF!"}},{"$f":"J42*#REF!","v":{"$error":"#REF!"}},1]
["28.","Hélium","4.6","9,1 m³ - 10 m3","50 L",200,{"$f":"#REF!","v":{"$error":"#REF!"}},{"$f":"#REF!","v":{"$error":"#REF!"}},{"$f":"#REF!","v":{"$error":"#REF!"}},{"$f":"G43+#REF!+H43+I43","v":{"$error":"#REF!"}},{"$f":"J43*#REF!","v":{"$error":"#REF!"}},1]
["29.","Hélium","5.0","1,8- m³ - 2 m3","14 L",200,0,0,0,{"$f":"G44+#REF!+H44+I44","v":{"$error":"#REF!"}},{"$f":"J44*#REF!","v":{"$error":"#REF!"}},4]
["30.","Hélium","5.0","9,1 m³ - 10 m3","50 L",200,{"$f":"#REF!","v":{"$error":"#REF!"}},{"$f":"#REF!+#REF!","v":{"$error":"#REF!"}},{"$f":"#REF!+#REF!","v":{"$error":"#REF!"}},{"$f":"G45+#REF!+H45+I45","v":{"$error":"#REF!"}},{"$f":"J45*#REF!","v":{"$error":"#REF!"}},25]
["31.","Hélium","6.0","9,1m³ - 10 m³","50 L",200,0,{"$f":"#REF!","v":{"$error":"#REF!"}},{"$f":"#REF!","v":{"$error":"#REF!"}},{"$f":"G46+#REF!+H46+I46","v":{"$error":"#REF!"}},{"$f":"J46*#REF!","v":{"$error":"#REF!"}},65]
["32.","Argon","4.6","6 m3","40 L",150,0,0,0,{"$f":"G47+#REF!+H47+I47","v":{"$error":"#REF!"}},{"$f":"J47*#REF!","v":{"$error":"#REF!"}},1]
["33.","Argon","4.6","10 m³ - 10,7 m³","50 L",200,{"$f":"#REF!+#REF!","v":{"$error":"#REF!"}},{"$f":"#REF!+#REF!","v":{"$error":"#REF!"}},{"$f":"#REF!+#REF!","v":{"$error":"#REF!"}},{"$f":"G48+#REF!+H48+I48","v":{"$error":"#REF!"}},{"$f":"J48*#REF!","v":{"$error":"#REF!"}},90]
["34.","Argon","5.0","6 m3","40 L",150,0,0,0,{"$f":"G49+#REF!+H49+I49","v":{"$error":"#REF!"}},{"$f":"J49*#REF!","v":{"$error":"#REF!"}},5]
["35.","Argon","5.0","1,5 m3","10 L",150,{"$f":"#REF!","v":{"$error":"#REF!"}},0,0,{"$f":"G50+#REF!+H50+I50","v":{"$error":"#REF!"}},{"$f":"J50*#REF!","v":{"$error":"#REF!"}},1]
["36.","Argon","5.0","10,7 m³","50L",200,0,{"$f":"#REF!","v":{"$error":"#REF!"}},{"$f":"#REF!","v":{"$error":"#REF!"}},{"$f":"G51+#REF!+H51+I51","v":{"$error":"#REF!"}},{"$f":"J51*#REF!","v":{"$error":"#REF!"}},118]
["37.","Disszugáz","ipari","2 kg - 2,8 kg","14 L",null,0,0,0,{"$f":"G52+#REF!+H52+I52","v":{"$error":"#REF!"}},{"$f":"J52*#REF!","v":{"$error":"#REF!"}},1]
["38.","Disszugáz","ipari","3,5 kg - 4 kg","27 L",null,0,0,0,{"$f":"G53+#REF!+H53+I53","v":{"$error":"#REF!"}},{"$f":"J53*#REF!","v":{"$error":"#REF!"}},1]
["39.","Disszugáz","ipari","6 kg - 7,5 kg","40 L",null,0,0,0,{"$f":"G54+#REF!+H54+I54","v":{"$error":"#REF!"}},{"$f":"J54*#REF!","v":{"$error":"#REF!"}},1]
["40.","Disszugáz","2.6","6 kg - 10 kg","40 L",null,0,0,0,{"$f":"G55+#REF!+H55+I55","v":{"$error":"#REF!"}},{"$f":"J55*#REF!","v":{"$error":"#REF!"}},11]
["41.","Carbogén","5 % CO2 O2-ben","6 m3","40 L",150,0,0,0,{"$f":"G56+#REF!+H56+I56","v":{"$error":"#REF!"}},{"$f":"J56*#REF!","v":{"$error":"#REF!"}},14]
["42.","Carbogén","5% CO2 O2-ben","2 m³","10 L",150,0,0,0,{"$f":"G57+#REF!+H57+I57","v":{"$error":"#REF!"}},{"$f":"J57*#REF!","v":{"$error":"#REF!"}},2]
["43.","Carbogén","5 %CO2 N2-ben","6 m3","40 L",150,0,0,0,{"$f":"G58+#REF!+H58+I58","v":{"$error":"#REF!"}},{"$f":"J58*#REF!","v":{"$error":"#REF!"}},1]
["44.","Carbogén","5 % CO2 N2-ben","1,5 m3","10 L",150,0,0,0,{"$f":"G59+#REF!+H59+I59","v":{"$error":"#REF!"}},{"$f":"J59*#REF!","v":{"$error":"#REF!"}},2]
["45.","Szárazjég  3mm, 16 mm",null,"kg",null,null,0,0,0,{"$f":"G60+#REF!+H60+I60","v":{"$error":"#REF!"}},{"$f":"J60*#REF!","v":{"$error":"#REF!"}},100]
["46.","Szárazjég tömb ",null,"kg",null,null,0,0,0,{"$f":"G61+#REF!+H61+I61","v":{"$error":"#REF!"}},{"$f":"J61*#REF!","v":{"$error":"#REF!"}},1]
["47.","Gázkeverék C18 18 % co2 Argonban",null,"7 m3","40 L",150,0,0,0,{"$f":"G62+#REF!+H62+I62","v":{"$error":"#REF!"}},{"$f":"J62*#REF!","v":{"$error":"#REF!"}},2]
["48.","Ammónia","ipari","20 kg","40 L",null,0,0,0,{"$f":"G63+#REF!+H63+I63","v":{"$error":"#REF!"}},{"$f":"J63*#REF!","v":{"$error":"#REF!"}},1]
["49.","Kén-hidrogén","ipari","6,7 kg","10 L",null,0,0,0,{"$f":"G64+#REF!+H64+I64","v":{"$error":"#REF!"}},{"$f":"J64*#REF!","v":{"$error":"#REF!"}},1]
["50.","Metán","4.5","12 m3","50 L",200,0,0,0,{"$f":"G65+#REF!+H65+I65","v":{"$error":"#REF!"}},{"$f":"J65*#REF!","v":{"$error":"#REF!"}},1]
["51.","Metán","4.5","2,5 m3","10 L",200,0,0,0,{"$f":"G66+#REF!+H66+I66","v":{"$error":"#REF!"}},{"$f":"J66*#REF!","v":{"$error":"#REF!"}},1]
["52.","Metán","2.5","12 m3","50 L",200,0,0,0,{"$f":"G67+#REF!+H67+I67","v":{"$error":"#REF!"}},{"$f":"J67*#REF!","v":{"$error":"#REF!"}},1]
["53.","Metán","3.5","2 m3","10 L",200,0,0,0,{"$f":"G68+#REF!+H68+I68","v":{"$error":"#REF!"}},{"$f":"J68*#REF!","v":{"$error":"#REF!"}},1]
["54.","Metán","3.5","12 m3","50 L",200,0,0,0,{"$f":"G69+#REF!+H69+I69","v":{"$error":"#REF!"}},{"$f":"J69*#REF!","v":{"$error":"#REF!"}},1]
["55.","Szén-dioxid","5.5","37,5 kg","50 L",null,0,0,0,{"$f":"G70+#REF!+H70+I70","v":{"$error":"#REF!"}},{"$f":"J70*#REF!","v":{"$error":"#REF!"}},1]
["56."," Kén-hidrogén nitrogénben","200ppm","1,5 m³","10 L",150,0,0,0,{"$f":"G71+#REF!+H71+I71","v":{"$error":"#REF!"}},{"$f":"J71*#REF!","v":{"$error":"#REF!"}},1]
["57.","Kén-hidrogén metánban","200ppm","1,5 m³","10 L",150,0,0,0,{"$f":"G72+#REF!+H72+I72","v":{"$error":"#REF!"}},{"$f":"J72*#REF!","v":{"$error":"#REF!"}},1]
["58.","Ammónia nitrogénben","5ppm","6 m3","40 L",150,0,0,0,{"$f":"G73+#REF!+H73+I73","v":{"$error":"#REF!"}},{"$f":"J73*#REF!","v":{"$error":"#REF!"}},2]
["59.","Szén-dioxid nitrogénben","1%","6 m3","40 L",150,0,0,0,{"$f":"G74+#REF!+H74+I74","v":{"$error":"#REF!"}},{"$f":"J74*#REF!","v":{"$error":"#REF!"}},1]
["60.","Metán nitrogénben","1%","6 m3","40 L",150,0,0,0,{"$f":"G75+#REF!+H75+I75","v":{"$error":"#REF!"}},{"$f":"J75*#REF!","v":{"$error":"#REF!"}},1]
["61.","BTX nitrogénben","1ppm","1,5 m³","10 L",150,0,0,0,{"$f":"G76+#REF!+H76+I76","v":{"$error":"#REF!"}},{"$f":"J76*#REF!","v":{"$error":"#REF!"}},1]
["62.","Fluor héliumban","5%","1,6 m3","10 L",150,0,0,0,{"$f":"G77+#REF!+H77+I77","v":{"$error":"#REF!"}},{"$f":"J77*#REF!","v":{"$error":"#REF!"}},1]
["63."," Kén-hidrogén N2-ben","2%","6 m3","50 L",150,0,0,0,{"$f":"G78+#REF!+H78+I78","v":{"$error":"#REF!"}},{"$f":"J78*#REF!","v":{"$error":"#REF!"}},1]
["64."," Kén-hidrogén N2-ben","2000ppm","6 m3","50 L",150,0,0,0,{"$f":"G79+#REF!+H79+I79","v":{"$error":"#REF!"}},{"$f":"J79*#REF!","v":{"$error":"#REF!"}},1]
["65."," Kén-hidrogén N2-ben","200ppm","6 m3","50 L",150,0,0,0,{"$f":"G80+#REF!+H80+I80","v":{"$error":"#REF!"}},{"$f":"J80*#REF!","v":{"$error":"#REF!"}},1]
["66."," Metán 4.5 Hélium 5.0-ban","5%","5 m3","40 L",150,0,0,0,{"$f":"G81+#REF!+H81+I81","v":{"$error":"#REF!"}},{"$f":"J81*#REF!","v":{"$error":"#REF!"}},1]
["67.","Metán 4.5  Hélium 5.0-ban","5%","1.5 m3","10 L",150,0,0,0,{"$f":"G82+#REF!+H82+I82","v":{"$error":"#REF!"}},{"$f":"J82*#REF!","v":{"$error":"#REF!"}},1]
["68.","Oxigén 4.5  Hélium 5.0-ban","10%","5 m3","40 L",150,0,0,0,{"$f":"G83+#REF!+H83+I83","v":{"$error":"#REF!"}},{"$f":"J83*#REF!","v":{"$error":"#REF!"}},1]
["69.","Oxigén 5.0 10% Hélium 5.0-ban","10%","1,5 m3","10 L",150,0,0,0,{"$f":"G84+#REF!+H84+I84","v":{"$error":"#REF!"}},{"$f":"J84*#REF!","v":{"$error":"#REF!"}},1]
["70.","Palack reduktor ipari 200/10 bar","4.8 -ig",null,null,null,0,0,0,{"$f":"G85+#REF!+H85+I85","v":{"$error":"#REF!"}},{"$f":"J85*#REF!","v":{"$error":"#REF!"}},1]
["71.","Palack reduktor labor 200/10 bar","6.0 -ig",null,null,null,0,0,0,{"$f":"G86+#REF!+H86+I86","v":{"$error":"#REF!"}},{"$f":"J86*#REF!","v":{"$error":"#REF!"}},2]
["72.","Cseppfolyós Hélium NMR befejtéssel","4.6","1 liter",null,null,0,0,0,{"$f":"G87+#REF!+H87+I87","v":{"$error":"#REF!"}},{"$f":"J87*#REF!","v":{"$error":"#REF!"}},1]
["73.","Reduktor tömítés 11 x 2,5 mm vagy 12 x 2,5 mm",{"$nulls":4},0,0,0,{"$f":"G88+#REF!+H88+I88","v":{"$error":"#REF!"}},{"$f":"J88*#REF!","v":{"$error":"#REF!"}},50]
["74.","Szén-dioxid (CO2)","4.5","12*37,5 kg",null,null,0,0,0,{"$f":"G89+#REF!+H89+I89","v":{"$error":"#REF!"}},{"$f":"J89*#REF!","v":{"$error":"#REF!"}},1]
["75.","Hidrogén ","5.0","106,8 m3",null,null,0,0,0,{"$f":"G90+#REF!+H90+I90","v":{"$error":"#REF!"}},{"$f":"J90*#REF!","v":{"$error":"#REF!"}},3]
["76.","Szén-dioxid (CO2)","4.5","37,5 kg",null,null,0,0,0,{"$f":"G91+#REF!+H91+I91","v":{"$error":"#REF!"}},{"$f":"J91*#REF!","v":{"$error":"#REF!"}},1]
["77.","Egyedi gázkeverék CO2:H2 arány: 1:3",null,"6m³","50L",150,0,{"$f":"#REF!","v":{"$error":"#REF!"}},{"$f":"#REF!","v":{"$error":"#REF!"}},{"$f":"G92+#REF!+H92+I92","v":{"$error":"#REF!"}},{"$f":"J92*#REF!","v":{"$error":"#REF!"}},2]
["78.","Egyedi gázkeverék CO2:H2:N2    arány: 24:72:4",null,"6m³","50L",150,0,{"$f":"#REF!","v":{"$error":"#REF!"}},{"$f":"#REF!","v":{"$error":"#REF!"}},{"$f":"G93+#REF!+H93+I93","v":{"$error":"#REF!"}},{"$f":"J93*#REF!","v":{"$error":"#REF!"}},4]
["79.","Oxigén gáz ","4,5","10 m³ - 10,7m³","50L",200,0,0,0,{"$f":"G94+#REF!+H94+I94","v":{"$error":"#REF!"}},{"$f":"J94*#REF!","v":{"$error":"#REF!"}},2]
["80.","Oxigén gáz ","5.5","10 m³ - 10,7m³","50L",200,0,0,0,{"$f":"G95+#REF!+H95+I95","v":{"$error":"#REF!"}},{"$f":"J95*#REF!","v":{"$error":"#REF!"}},2]
["81.","Szén-dioxid (CO2) ","4.5","37,5 kg","50L",null,0,{"$f":"#REF!","v":{"$error":"#REF!"}},{"$f":"#REF!","v":{"$error":"#REF!"}},{"$f":"G96+#REF!+H96+I96","v":{"$error":"#REF!"}},{"$f":"J96*#REF!","v":{"$error":"#REF!"}},23]
["82.","Gourmet C (CO2 élelmiszeripari) merülő csöves palack",null,"20 kg",null,null,0,0,0,{"$f":"G97+#REF!+H97+I97","v":{"$error":"#REF!"}},{"$f":"J97*#REF!","v":{"$error":"#REF!"}},11]
["83.","Hélium","6.0","2 m3","14L"," 150 vagy 200 bar",0,0,0,{"$f":"G98+#REF!+H98+I98","v":{"$error":"#REF!"}},{"$f":"J98*#REF!","v":{"$error":"#REF!"}},1]
["84.","Oxigén","3,5","10 m³","50 l"," 150 vagy 200 bar",2,2,2,{"$f":"G99+#REF!+H99+I99","v":{"$error":"#REF!"}},{"$f":"J99*#REF!","v":{"$error":"#REF!"}},2]
["85.","Etán","2.5",null,"10L",null,1,0,0,{"$f":"G100+#REF!+H100+I100","v":{"$error":"#REF!"}},{"$f":"J100*#REF!","v":{"$error":"#REF!"}},1]
["86.","Kén-hexafluorid","3.0",null,"10L",null,1,0,0,{"$f":"G101+#REF!+H101+I101","v":{"$error":"#REF!"}},{"$f":"J101*#REF!","v":{"$error":"#REF!"}},1]
["87.","HCl 2.8 99,8%\nH2O: max. 10 ppm\nInert gáz: max. 2000 ppm, szelepcsatlakozás DIN 8\n(W 1'' x 1/8'' jobbmenet)",null,"6 kg","10 L",{"$nulls":6},2]
[null,"ÖSSZESEN*"]
[]
[null,"*Felolvasólappal megegyező összegek."]